BEGIN:VCALENDAR
VERSION:2.0
PRODID:wwt3-event
X-WR-TIMEZONE:Europe/Berlin
BEGIN:VTIMEZONE
TZID:Europe/Berlin
X-LIC-LOCATION:Europe/Berlin
BEGIN:DAYLIGHT
TZNAME:CEST
TZOFFSETFROM:+0100
TZOFFSETTO:+0200
DTSTART:19810329T030000
RRULE:FREQ=YEARLY;INTERVAL=1;BYMONTH=3;BYDAY=-1SU
END:DAYLIGHT
BEGIN:STANDARD
TZNAME:CET
TZOFFSETFROM:+0200
TZOFFSETTO:+0100
DTSTART:19961027T030000
RRULE:FREQ=YEARLY;INTERVAL=1;BYMONTH=10;BYDAY=-1SU
END:STANDARD
END:VTIMEZONE
BEGIN:VEVENT
UID:69e9a29b40ea4
DTSTART:20260505T143000Z
SEQUENCE:0
TRANSP:OPAQUE
DTEND:20260505T160000Z
LOCATION:Ludwig Erhard Haus\,Fasanenstraße 85\,10623 Berlin
SUMMARY:Wärmewende sozial gestalten: Mieterschutz als Schlüssel zum Erfol
 g
CLASS:PUBLIC
DESCRIPTION:Für gerechteres Wohnen und eine breite Akzeptanz des Klimaschu
 tzes braucht es eine ambitionierte und sozial gestaltete Wärmewende. Vor 
 dem Hintergrund der Debatte um das Gebäudemodernisierungsgesetz (GMG) und
  die Umsetzung europäischer Vorgaben (EPBD) werden in der Podiumsdiskussi
 on mit ExperInnen aus Wissenschaft\, Politik und Verbänden konkrete Lösu
 ngsansätze beleuchtet.
DTSTAMP:20260423T043955Z
END:VEVENT
END:VCALENDAR