BEGIN:VCALENDAR
VERSION:2.0
PRODID:wwt3-event
X-WR-TIMEZONE:Europe/Berlin
BEGIN:VTIMEZONE
TZID:Europe/Berlin
X-LIC-LOCATION:Europe/Berlin
BEGIN:DAYLIGHT
TZNAME:CEST
TZOFFSETFROM:+0100
TZOFFSETTO:+0200
DTSTART:19810329T030000
RRULE:FREQ=YEARLY;INTERVAL=1;BYMONTH=3;BYDAY=-1SU
END:DAYLIGHT
BEGIN:STANDARD
TZNAME:CET
TZOFFSETFROM:+0200
TZOFFSETTO:+0100
DTSTART:19961027T030000
RRULE:FREQ=YEARLY;INTERVAL=1;BYMONTH=10;BYDAY=-1SU
END:STANDARD
END:VTIMEZONE
BEGIN:VEVENT
UID:69e9a26c86d75
DTSTART:20260422T090000Z
SEQUENCE:0
TRANSP:OPAQUE
DTEND:20260422T100000Z
LOCATION:Online Event\,\, 
SUMMARY:Toolbox for modelling sufficiency
CLASS:PUBLIC
DESCRIPTION:Against the backdrop of slow progress in the energy transition 
 and the challenges of meeting high levels of demand\, analyzing the potent
 ial and policy framework for reducing demand through sufficiency approache
 s is becoming increasingly important. Over the past five years\, the Energ
 y Sufficiency Research Group (EnSu) has conducted intensive research on th
 e intersection between energy sufficiency and issues related to modeling a
 nd integrating sufficiency into scenarios. The published works on sufficie
 ncy modeling are available on the EnSu website\, and are shown in light gr
 een in the following overview as contributions to demand-side modeling in 
 energy transition scenarios.\nIn the webinar\, we will present the toolbox
  – which consists of data\, models\, and methods – and look forward to
  your questions and discussion.
DTSTAMP:20260423T043908Z
END:VEVENT
END:VCALENDAR