BEGIN:VCALENDAR
VERSION:2.0
PRODID:wwt3-event
X-WR-TIMEZONE:Europe/Berlin
BEGIN:VTIMEZONE
TZID:Europe/Berlin
X-LIC-LOCATION:Europe/Berlin
BEGIN:DAYLIGHT
TZNAME:CEST
TZOFFSETFROM:+0100
TZOFFSETTO:+0200
DTSTART:19810329T030000
RRULE:FREQ=YEARLY;INTERVAL=1;BYMONTH=3;BYDAY=-1SU
END:DAYLIGHT
BEGIN:STANDARD
TZNAME:CET
TZOFFSETFROM:+0200
TZOFFSETTO:+0100
DTSTART:19961027T030000
RRULE:FREQ=YEARLY;INTERVAL=1;BYMONTH=10;BYDAY=-1SU
END:STANDARD
END:VTIMEZONE
BEGIN:VEVENT
UID:69e9a2c9e6343
DTSTART:20260520T081500Z
SEQUENCE:0
TRANSP:OPAQUE
DTEND:20260520T084500Z
LOCATION:Spreespeicher Berlin\,Stralauer Allee 2\,10245 Berlin
SUMMARY:GSN-Summit: Klimawirkung von Kompensationszertifikaten
CLASS:PUBLIC
DESCRIPTION:CO₂-Zertifikate sind ein fester Bestandteil im Instrumentenmi
 x für unternehmerisches Engagement für Klimaschutz. Deren tatsächliche 
 Klimawirkung wurde jedoch durch Fachartikel immer wieder in Frage gestellt
  und kontrovers diskutiert. Felix Fallasch\, Senior Researcher am Oeko-Ins
 titut\, wird in seinem Impuls neueste Forschungsergebnisse zu Chancen sowi
 e Risiken von CO2-Zertifikaten vorstellen. Im Rahmen dessen ordnet er die 
 aktuellen Entwicklungen auf den internationalen Kohlenstoffmärkten ein un
 d bereitet die Debatte um zulässige Klimaschutzclaims strukturiert auf. I
 m Fokus steht dabei u. a. die Schlüsselfrage: Welche Faktoren sind entsch
 eidend\, damit CO₂‑Zertifikate eine hohe Umweltintegrität haben?
DTSTAMP:20260423T044041Z
END:VEVENT
END:VCALENDAR