BEGIN:VCALENDAR
VERSION:2.0
PRODID:wwt3-event
X-WR-TIMEZONE:Europe/Berlin
BEGIN:VTIMEZONE
TZID:Europe/Berlin
X-LIC-LOCATION:Europe/Berlin
BEGIN:DAYLIGHT
TZNAME:CEST
TZOFFSETFROM:+0100
TZOFFSETTO:+0200
DTSTART:19810329T030000
RRULE:FREQ=YEARLY;INTERVAL=1;BYMONTH=3;BYDAY=-1SU
END:DAYLIGHT
BEGIN:STANDARD
TZNAME:CET
TZOFFSETFROM:+0200
TZOFFSETTO:+0100
DTSTART:19961027T030000
RRULE:FREQ=YEARLY;INTERVAL=1;BYMONTH=10;BYDAY=-1SU
END:STANDARD
END:VTIMEZONE
BEGIN:VEVENT
UID:69e9a1ebb8a0e
DTSTART:20260512T080000Z
SEQUENCE:0
TRANSP:OPAQUE
DTEND:20260512T110000Z
LOCATION:adesso Berlin\,Raum-GS-BER-Marlene-Moeschke-Poelzig \nPrinzenstra
 ße 34\,10969 Berlin
SUMMARY:Digitale Technologien als Treiber und Belastung für die ökologisc
 he Nachhaltigkeit
CLASS:PUBLIC
DESCRIPTION:Nach drei Jahren intensiver Forschung und Entwicklung präsenti
 ert das ECO:DIGIT-Konsortium seine Ergebnisse und Tools\, die digitale Nac
 hhaltigkeit messbar\, standardisierbar und in der Praxis anwendbar machen.
DTSTAMP:20260423T043659Z
END:VEVENT
END:VCALENDAR